BEGIN:VCALENDAR
VERSION:2.0
PRODID:-//KGV Küssower Berg II e.V. - ECPv6.0.10//NONSGML v1.0//EN
CALSCALE:GREGORIAN
METHOD:PUBLISH
X-ORIGINAL-URL:https://www.kgv-kuessow2.de
X-WR-CALDESC:Veranstaltungen für KGV Küssower Berg II e.V.
REFRESH-INTERVAL;VALUE=DURATION:PT1H
X-Robots-Tag:noindex
X-PUBLISHED-TTL:PT1H
BEGIN:VTIMEZONE
TZID:Europe/Berlin
BEGIN:DAYLIGHT
TZOFFSETFROM:+0100
TZOFFSETTO:+0200
TZNAME:CEST
DTSTART:20170326T010000
END:DAYLIGHT
BEGIN:STANDARD
TZOFFSETFROM:+0200
TZOFFSETTO:+0100
TZNAME:CET
DTSTART:20171029T010000
END:STANDARD
END:VTIMEZONE
BEGIN:VEVENT
DTSTART;TZID=Europe/Berlin:20170401T101500
DTEND;TZID=Europe/Berlin:20170401T121500
DTSTAMP:20260425T202722
CREATED:20170220T133340Z
LAST-MODIFIED:20170220T135334Z
UID:912-1491041700-1491048900@www.kgv-kuessow2.de
SUMMARY:Schredder Anlage IV
DESCRIPTION:10:15 &#8211; 12:15 Uhr: Bei Anlage KGV “Küssower Berg IV” \nBitte beim Schreddern mithelfen. \nEindringlicher Hinweis vom Regionalverband:Solange Schreddern angeboten wird\, bleibt das Verbrennen verboten!
URL:https://www.kgv-kuessow2.de/event/schredder-anlage-iv-2/
LOCATION:KGV &#8222;Küssower Berg IV&#8220;
CATEGORIES:Termine
ATTACH;FMTTYPE=image/jpeg:https://www.kgv-kuessow2.de/wp-content/uploads/2015/10/7.jpg
END:VEVENT
BEGIN:VEVENT
DTSTART;TZID=Europe/Berlin:20170401T123000
DTEND;TZID=Europe/Berlin:20170401T140000
DTSTAMP:20260425T202722
CREATED:20170220T133756Z
LAST-MODIFIED:20180304T084346Z
UID:913-1491049800-1491055200@www.kgv-kuessow2.de
SUMMARY:Schredder Anlage II
DESCRIPTION:12:30 &#8211; 14:00 Uhr: Anlage KGV “Küssower Berg II e.V&#8220;\nParzelle 85 (Nähe Pumpenhaus)\n  \nBitte beim Schreddern mithelfen. \nEindringlicher Hinweis vom Regionalverband:\nSolange Schreddern angeboten wird\, bleibt das Verbrennen verboten.
URL:https://www.kgv-kuessow2.de/event/schredder-anlage-ii-2/
LOCATION:KGV &#8222;Küssower Berg II e.V.&#8220;
CATEGORIES:Termine
ATTACH;FMTTYPE=image/jpeg:https://www.kgv-kuessow2.de/wp-content/uploads/2015/10/7.jpg
END:VEVENT
BEGIN:VEVENT
DTSTART;TZID=Europe/Berlin:20170401T141500
DTEND;TZID=Europe/Berlin:20170401T160000
DTSTAMP:20260425T202722
CREATED:20170220T135048Z
LAST-MODIFIED:20170220T135208Z
UID:915-1491056100-1491062400@www.kgv-kuessow2.de
SUMMARY:Schredder Anlage V
DESCRIPTION:14:15 &#8211; 16:00 Uhr: Bei Anlage KGV “Küssower Berg V”Freifläche hinter den Tafelgärten  \nBitte beim Schreddern mithelfen. \nEindringlicher Hinweis vom Regionalverband: Solange Schreddern angeboten wird\, bleibt das Verbrennen verboten!
URL:https://www.kgv-kuessow2.de/event/schredder-anlage-v/
LOCATION:KGV &#8222;Küssower Berg V&#8220;
CATEGORIES:Termine
ATTACH;FMTTYPE=image/jpeg:https://www.kgv-kuessow2.de/wp-content/uploads/2015/10/7.jpg
END:VEVENT
END:VCALENDAR