BEGIN:VCALENDAR
VERSION:2.0
PRODID:-//KGV Küssower Berg II e.V. - ECPv6.0.10//NONSGML v1.0//EN
CALSCALE:GREGORIAN
METHOD:PUBLISH
X-ORIGINAL-URL:https://www.kgv-kuessow2.de
X-WR-CALDESC:Veranstaltungen für KGV Küssower Berg II e.V.
REFRESH-INTERVAL;VALUE=DURATION:PT1H
X-Robots-Tag:noindex
X-PUBLISHED-TTL:PT1H
BEGIN:VTIMEZONE
TZID:Europe/Berlin
BEGIN:DAYLIGHT
TZOFFSETFROM:+0100
TZOFFSETTO:+0200
TZNAME:CEST
DTSTART:20180325T010000
END:DAYLIGHT
BEGIN:STANDARD
TZOFFSETFROM:+0200
TZOFFSETTO:+0100
TZNAME:CET
DTSTART:20181028T010000
END:STANDARD
END:VTIMEZONE
BEGIN:VEVENT
DTSTART;TZID=Europe/Berlin:20181026T101500
DTEND;TZID=Europe/Berlin:20181026T121500
DTSTAMP:20260424T162542
CREATED:20180923T073226Z
LAST-MODIFIED:20180923T073226Z
UID:1036-1540548900-1540556100@www.kgv-kuessow2.de
SUMMARY:Schredder Anlage IV
DESCRIPTION:10:15 &#8211; 12:15 Uhr: Bei Anlage KGV “Küssower Berg IV” \nBitte beim Schreddern mithelfen. \nEindringlicher Hinweis vom Regionalverband:\n Solange Schreddern angeboten wird\, bleibt das Verbrennen verboten!
URL:https://www.kgv-kuessow2.de/event/schredder-anlage-iv-4/
LOCATION:KGV &#8222;Küssower Berg IV&#8220;
CATEGORIES:Termine
ATTACH;FMTTYPE=image/jpeg:https://www.kgv-kuessow2.de/wp-content/uploads/2015/05/Schredder1.jpg
END:VEVENT
BEGIN:VEVENT
DTSTART;TZID=Europe/Berlin:20181026T123000
DTEND;TZID=Europe/Berlin:20181026T140000
DTSTAMP:20260424T162542
CREATED:20180923T070919Z
LAST-MODIFIED:20180923T073911Z
UID:1034-1540557000-1540562400@www.kgv-kuessow2.de
SUMMARY:Schredder Anlage II
DESCRIPTION:12:30 &#8211; 14:00 Uhr: Anlage KGV “Küssower Berg II e.V&#8220;\n (Neben Pumpenhaus)\n  \n\nBaumstümpfe\, Wurzelballen\, Stauden- und Blumenreste\, Hecken-/Rasenschnitt\, Laub etc. gehören nicht zum Schreddergut.\nAnlieferung maximal 1 Woche vorher !\n\nBitte beim Schreddern mithelfen. \nEindringlicher Hinweis vom Regionalverband:\n Solange Schreddern angeboten wird\, bleibt das Verbrennen verboten!
URL:https://www.kgv-kuessow2.de/event/schredder-anlage-ii-4/
LOCATION:KGV &#8222;Küssower Berg II e.V.&#8220;
CATEGORIES:Termine
ATTACH;FMTTYPE=image/jpeg:https://www.kgv-kuessow2.de/wp-content/uploads/2015/05/Schredder1.jpg
END:VEVENT
BEGIN:VEVENT
DTSTART;TZID=Europe/Berlin:20181026T141500
DTEND;TZID=Europe/Berlin:20181026T160000
DTSTAMP:20260424T162542
CREATED:20180923T070140Z
LAST-MODIFIED:20180923T070140Z
UID:1032-1540563300-1540569600@www.kgv-kuessow2.de
SUMMARY:Schredder Anlage I
DESCRIPTION:14:35 &#8211; 16:00 Uhr: Bei Anlage KGV “Küssower Berg I” \nBitte beim Schreddern mithelfen. \nEindringlicher Hinweis vom Regionalverband:\n Solange Schreddern angeboten wird\, bleibt das Verbrennen verboten!
URL:https://www.kgv-kuessow2.de/event/schredder-anlage-i-2/
LOCATION:KGV &#8222;Küssower Berg I&#8220;
CATEGORIES:Termine
ATTACH;FMTTYPE=image/jpeg:https://www.kgv-kuessow2.de/wp-content/uploads/2015/05/Schredder1.jpg
END:VEVENT
END:VCALENDAR