BEGIN:VCALENDAR
VERSION:2.0
PRODID:-//KGV Küssower Berg II e.V. - ECPv6.0.10//NONSGML v1.0//EN
CALSCALE:GREGORIAN
METHOD:PUBLISH
X-ORIGINAL-URL:https://www.kgv-kuessow2.de
X-WR-CALDESC:Veranstaltungen für KGV Küssower Berg II e.V.
REFRESH-INTERVAL;VALUE=DURATION:PT1H
X-Robots-Tag:noindex
X-PUBLISHED-TTL:PT1H
BEGIN:VTIMEZONE
TZID:Europe/Berlin
BEGIN:DAYLIGHT
TZOFFSETFROM:+0100
TZOFFSETTO:+0200
TZNAME:CEST
DTSTART:20190331T010000
END:DAYLIGHT
BEGIN:STANDARD
TZOFFSETFROM:+0200
TZOFFSETTO:+0100
TZNAME:CET
DTSTART:20191027T010000
END:STANDARD
END:VTIMEZONE
BEGIN:VEVENT
DTSTART;TZID=Europe/Berlin:20190330T101500
DTEND;TZID=Europe/Berlin:20190330T121500
DTSTAMP:20260424T091348
CREATED:20190309T145008Z
LAST-MODIFIED:20190309T145540Z
UID:1062-1553940900-1553948100@www.kgv-kuessow2.de
SUMMARY:Schredder Anlage IV
DESCRIPTION:10:15 &#8211; 12:15 Uhr: Bei Anlage KGV “Küssower Berg IV” \nBitte beim Schreddern mithelfen. \nEindringlicher Hinweis vom Regionalverband:\n Solange Schreddern angeboten wird\, bleibt das Verbrennen verboten!
URL:https://www.kgv-kuessow2.de/event/schredder-anlage-iv-5/
LOCATION:KGV &#8222;Küssower Berg IV&#8220;
CATEGORIES:Termine
ATTACH;FMTTYPE=image/jpeg:https://www.kgv-kuessow2.de/wp-content/uploads/2015/05/Schredder1.jpg
END:VEVENT
BEGIN:VEVENT
DTSTART;TZID=Europe/Berlin:20190330T123000
DTEND;TZID=Europe/Berlin:20190330T140000
DTSTAMP:20260424T091348
CREATED:20190309T151135Z
LAST-MODIFIED:20190309T154632Z
UID:1063-1553949000-1553954400@www.kgv-kuessow2.de
SUMMARY:Schredder Anlage II
DESCRIPTION:12:30 &#8211; 14:00 Uhr: Anlage KGV “Küssower Berg II e.V&#8220;\n (Neben Pumpenhaus)\n  \n\nBaumstümpfe\, Wurzelballen\, Stauden- und Blumenreste\, Hecken-/Rasenschnitt\, Laub etc. gehören nicht zum Schreddergut.\nAnlieferung maximal 1 Woche vorher !\n\nBitte beim Schreddern mithelfen. \nEindringlicher Hinweis vom Regionalverband:\n Solange Schreddern angeboten wird\, bleibt das Verbrennen verboten!
URL:https://www.kgv-kuessow2.de/event/schredder-anlage-ii-5/
LOCATION:KGV &#8222;Küssower Berg II e.V.&#8220;
CATEGORIES:Termine
ATTACH;FMTTYPE=image/jpeg:https://www.kgv-kuessow2.de/wp-content/uploads/2015/05/Schredder1.jpg
END:VEVENT
BEGIN:VEVENT
DTSTART;TZID=Europe/Berlin:20190330T141500
DTEND;TZID=Europe/Berlin:20190330T160000
DTSTAMP:20260424T091348
CREATED:20190309T155353Z
LAST-MODIFIED:20190309T155353Z
UID:1064-1553955300-1553961600@www.kgv-kuessow2.de
SUMMARY:Schredder Anlage V
DESCRIPTION:14:15 &#8211; 16:00 Uhr: Bei Anlage KGV “Küssower Berg V” \n(Freichfläche hinter den Tafelgärten)\n \nBitte beim Schreddern mithelfen. \nEindringlicher Hinweis vom Regionalverband:\n Solange Schreddern angeboten wird\, bleibt das Verbrennen verboten!
URL:https://www.kgv-kuessow2.de/event/schredder-anlage-v-3/
LOCATION:KGV &#8222;Küssower Berg V&#8220;
CATEGORIES:Termine
ATTACH;FMTTYPE=image/jpeg:https://www.kgv-kuessow2.de/wp-content/uploads/2015/05/Schredder1.jpg
END:VEVENT
END:VCALENDAR