BEGIN:VCALENDAR
VERSION:2.0
PRODID:-//KGV KÃ¼ssower Berg II e.V. - ECPv6.0.10//NONSGML v1.0//EN
CALSCALE:GREGORIAN
METHOD:PUBLISH
X-WR-CALNAME:KGV KÃ¼ssower Berg II e.V.
X-ORIGINAL-URL:https://www.kgv-kuessow2.de
X-WR-CALDESC:Veranstaltungen fÃ¼r KGV KÃ¼ssower Berg II e.V.
REFRESH-INTERVAL;VALUE=DURATION:PT1H
X-Robots-Tag:noindex
X-PUBLISHED-TTL:PT1H
BEGIN:VTIMEZONE
TZID:Europe/Berlin
BEGIN:DAYLIGHT
TZOFFSETFROM:+0100
TZOFFSETTO:+0200
TZNAME:CEST
DTSTART:20200329T010000
END:DAYLIGHT
BEGIN:STANDARD
TZOFFSETFROM:+0200
TZOFFSETTO:+0100
TZNAME:CET
DTSTART:20201025T010000
END:STANDARD
END:VTIMEZONE
BEGIN:VEVENT
DTSTART;VALUE=DATE:20200327
DTEND;VALUE=DATE:20200328
DTSTAMP:20260423T160100
CREATED:20200128T183852Z
LAST-MODIFIED:20200324T183402Z
UID:1087-1585267200-1585353599@www.kgv-kuessow2.de
SUMMARY:Schredder: FÃ¤llt aus !
DESCRIPTION:Die Schreddertermine am 27.03.2020 fallen auf Grund der aktuellen Corona-Infektionswelle aus! \nNach Beendigung der kritischen Lage werden die EinsÃ¤tze neu geplant! \n 
URL:https://www.kgv-kuessow2.de/event/schredder-anlage-ii-7/
LOCATION:KGA &#8222;KÃ¼ssower Berg&#8220;
CATEGORIES:Termine
ATTACH;FMTTYPE=image/jpeg:https://www.kgv-kuessow2.de/wp-content/uploads/2015/05/Schredder1.jpg
END:VEVENT
END:VCALENDAR